BEGIN:VCALENDAR
VERSION:2.0
PRODID:-//Finger Lakes - ECPv6.15.20//NONSGML v1.0//EN
CALSCALE:GREGORIAN
METHOD:PUBLISH
X-WR-CALNAME:Finger Lakes
X-ORIGINAL-URL:https://www.fingerlakesgaming.com
X-WR-CALDESC:Events for Finger Lakes
REFRESH-INTERVAL;VALUE=DURATION:PT1H
X-Robots-Tag:noindex
X-PUBLISHED-TTL:PT1H
BEGIN:VTIMEZONE
TZID:America/New_York
BEGIN:DAYLIGHT
TZOFFSETFROM:-0500
TZOFFSETTO:-0400
TZNAME:EDT
DTSTART:20240310T070000
END:DAYLIGHT
BEGIN:STANDARD
TZOFFSETFROM:-0400
TZOFFSETTO:-0500
TZNAME:EST
DTSTART:20241103T060000
END:STANDARD
BEGIN:DAYLIGHT
TZOFFSETFROM:-0500
TZOFFSETTO:-0400
TZNAME:EDT
DTSTART:20250309T070000
END:DAYLIGHT
BEGIN:STANDARD
TZOFFSETFROM:-0400
TZOFFSETTO:-0500
TZNAME:EST
DTSTART:20251102T060000
END:STANDARD
BEGIN:DAYLIGHT
TZOFFSETFROM:-0500
TZOFFSETTO:-0400
TZNAME:EDT
DTSTART:20260308T070000
END:DAYLIGHT
BEGIN:STANDARD
TZOFFSETFROM:-0400
TZOFFSETTO:-0500
TZNAME:EST
DTSTART:20261101T060000
END:STANDARD
BEGIN:DAYLIGHT
TZOFFSETFROM:-0500
TZOFFSETTO:-0400
TZNAME:EDT
DTSTART:20270314T070000
END:DAYLIGHT
BEGIN:STANDARD
TZOFFSETFROM:-0400
TZOFFSETTO:-0500
TZNAME:EST
DTSTART:20271107T060000
END:STANDARD
END:VTIMEZONE
BEGIN:VTIMEZONE
TZID:UTC
BEGIN:STANDARD
TZOFFSETFROM:+0000
TZOFFSETTO:+0000
TZNAME:UTC
DTSTART:20240101T000000
END:STANDARD
END:VTIMEZONE
BEGIN:VEVENT
DTSTART;VALUE=DATE:20250701
DTEND;VALUE=DATE:20260102
DTSTAMP:20260424T051342
CREATED:20250701T160857Z
LAST-MODIFIED:20251126T194045Z
UID:10000819-1751346000-1767243599@www.fingerlakesgaming.com
SUMMARY:Honoring The Heroes Among Us
DESCRIPTION:Now Available\n\nWe are proud to recognize veterans\, active-duty military and first responders who serve and protect our community and country with our new HERO program! \nVisit the Lucky North® Rewards desk with the required documents to receive your designation as a HERO member and unlock more benefits: \n\nCommemorative HERO card\nUpgrade to Emerald status*\nAccess to future HERO exclusive promotions\, offers and discounts.\n\nClick here for more information and required proof of status.
URL:https://www.fingerlakesgaming.com/event/honoring-the-heroes-among-us/
CATEGORIES:Promotions
ATTACH;FMTTYPE=image/jpeg:https://www.fingerlakesgaming.com/wp-content/uploads/2025/06/GHAM7401_HeroCardLaunch_Web300x250_Jun25_V1.jpg
END:VEVENT
BEGIN:VEVENT
DTSTART;VALUE=DATE:20250901
DTEND;VALUE=DATE:20250903
DTSTAMP:20260424T051342
CREATED:20250827T135945Z
LAST-MODIFIED:20250827T140150Z
UID:10000911-1756702800-1756789199@www.fingerlakesgaming.com
SUMMARY:Labor Day At The Races
DESCRIPTION:Monday\, September 1\n\n\nFree Finger Lakes Live Racing Programs\n\n\nRace Day Dining Deals\n\nLower Clubhouse Pavilion: $1 hot dogs\, $1 soft drinks (12oz)\, and $1 chips\nThe Wire: $1 hot dogs + $1 fountain soft drinks (12oz)\nTin Cup: $3 12 oz domestic draft drafts\n\n\n\nJockey Footrace\nFinger Lakes jockeys will race to raise funds for the Permanently Disabled Jockeys Fund. \n\n\n$10 Racing Bet Bounceback\nPlace a $10 win\, place or show bet on any Finger Lakes live race to receive a coupon for $10 gaming Free Play to redeem on a future visit. \nPlace bet with mutuel clerks in the Upper Grandstand. Redeem at the Lucky North® rewards desk. Limit one redemption. Free Play valid 9/2/25–9/30/25. \nRules & Regulations (pdf)
URL:https://www.fingerlakesgaming.com/event/labor-day-at-the-races/
CATEGORIES:Promotions
ATTACH;FMTTYPE=image/jpeg:https://www.fingerlakesgaming.com/wp-content/uploads/2025/08/FLGR7484_LaborDayRaces_WebPromo_300x250_Aug25_V1.jpg
END:VEVENT
BEGIN:VEVENT
DTSTART;VALUE=DATE:20250901
DTEND;VALUE=DATE:20250929
DTSTAMP:20260424T051342
CREATED:20250826T184437Z
LAST-MODIFIED:20250827T154704Z
UID:10000897-1756702800-1759035599@www.fingerlakesgaming.com
SUMMARY:$100\,000 Pyramid of Prizes
DESCRIPTION:Every Saturday in September\nGrand Prize Drawing | Saturday\, September 27 | 9:30pm\nYour chance to win a share of Egyptian riches! \n\n$40\,000 Treasure of the Nile\nEarn entries daily September 1–27 by playing any gaming machine with your Lucky North® Rewards card! \nGrand Prize Drawing: Saturday\, September 27 | 9:30pm \nPlay with your card on drawing day by 9pm to activate your entries. \nGrand Prize:  \n\n$30\,000 Cash | One Winner\n$5\,000 Cash | One Winner\n$1\,000 Cash | Five Winners\n\n2X Tuesdays \nEarn double points and double entries into the Grand Prize drawing when you play with your card on Tuesdays! \nRules & Regulations (pdf) \n  \n\n$10\,000 Pharaoh’s Gold Free Play Drawings\nSaturday\, September 27 | 4pm–8pm\nPrint a ticket to enter for a chance to win $500 Free Play! 4 winners selected hourly. \nRules & Regulations (pdf)
URL:https://www.fingerlakesgaming.com/event/100k-pyramid-of-prizes/
CATEGORIES:Promotions
ATTACH;FMTTYPE=image/jpeg:https://www.fingerlakesgaming.com/wp-content/uploads/2025/08/FLGR7484_PyramidPrizes_WebPromo_300x250_Aug25_V1.jpg
END:VEVENT
BEGIN:VEVENT
DTSTART;VALUE=DATE:20250903
DTEND;VALUE=DATE:20250905
DTSTAMP:20260424T051342
CREATED:20250627T145735Z
LAST-MODIFIED:20250922T152324Z
UID:10000931-1756875600-1756961999@www.fingerlakesgaming.com
SUMMARY:Lucky Legends 50 Plus
DESCRIPTION:Wednesdays\n\nWeekly Perks \nEarn & Get up to $25 Free Play | 8am–Midnight\nReceive $5 Free Play each time you earn 25 base points.\nLimit 5 redemptions. \n15% Food Discount | Platinum Grille & The Wire\nPresent your Lucky North® Rewards card with sticker. \nFree Finger Lakes Live Racing Program\nUpper Grandstand \nWinning Wednesday Wheel | Noon–6pm\nTwo hot seat winners selected each hour. Winners spin the cash wheel for a chance to win up to $300 cash!\n \n  \n\nRules & Regulations (pdf) \nWinning Wednesday Wheel Rules & Regulations (pdf)
URL:https://www.fingerlakesgaming.com/event/lucky-legends-50-plus/2025-09-03/
CATEGORIES:Promotions
ATTACH;FMTTYPE=image/jpeg:https://www.fingerlakesgaming.com/wp-content/uploads/2025/03/FL-50plus-Promo.jpg
END:VEVENT
BEGIN:VEVENT
DTSTART;TZID=America/New_York:20250906T150000
DTEND;TZID=America/New_York:20250906T220000
DTSTAMP:20260424T051342
CREATED:20250826T191806Z
LAST-MODIFIED:20250827T144147Z
UID:10000898-1757170800-1757196000@www.fingerlakesgaming.com
SUMMARY:Hieroglyphic Hot Seats
DESCRIPTION:Saturdays\, September 6\, 13 & 20 | 3pm–10pm\n\nOver $50\,000 in prizes up for grabs! \nPlay with your card for a chance to play the matching game and win Free Play or $5\,000 cash! \n\nRules & Regulations (pdf)
URL:https://www.fingerlakesgaming.com/event/hieroglyphic-hot-seats/2025-09-06/
CATEGORIES:Promotions
ATTACH;FMTTYPE=image/jpeg:https://www.fingerlakesgaming.com/wp-content/uploads/2025/08/FLGR7484_HieroglyphicHotSeats_WebPromo_300x250_Aug25_V1-1.jpg
END:VEVENT
BEGIN:VEVENT
DTSTART;TZID=America/New_York:20250906T200000
DTEND;TZID=America/New_York:20250906T230000
DTSTAMP:20260424T051342
CREATED:20250516T154511Z
LAST-MODIFIED:20250827T151754Z
UID:10000403-1757188800-1757199600@www.fingerlakesgaming.com
SUMMARY:Kid Kurry Band at Remedy™
DESCRIPTION:Saturday\, September 6 | 8pm – 11pm | Free Admission\n\nJoin us at Remedy™ for a live performance by Kid Kurry Band playing Southern / Classic Rock music. Admission is free.
URL:https://www.fingerlakesgaming.com/event/kid-kurry-band-at-remedy/
CATEGORIES:Entertainment
ATTACH;FMTTYPE=image/jpeg:https://www.fingerlakesgaming.com/wp-content/uploads/2025/03/FLGR7159_Entertainment_Web_300x250_Mar25_V1b.jpg
END:VEVENT
BEGIN:VEVENT
DTSTART;VALUE=DATE:20250907
DTEND;VALUE=DATE:20250909
DTSTAMP:20260424T051342
CREATED:20250129T161825Z
LAST-MODIFIED:20260317T183240Z
UID:10001062-1757221200-1757307599@www.fingerlakesgaming.com
SUMMARY:Sunday Brunch Bonus
DESCRIPTION:Sundays\n\nComplimentary mimosa or bloody Mary with the purchase of a Brunch Buffet. \nMust be 21 or older.
URL:https://www.fingerlakesgaming.com/event/sunday-brunch-bonus/2025-09-07/
CATEGORIES:Dining,Promotions
ATTACH;FMTTYPE=image/jpeg:https://www.fingerlakesgaming.com/wp-content/uploads/2025/01/FL-Buffet-SB-Promo.jpg
END:VEVENT
BEGIN:VEVENT
DTSTART;VALUE=DATE:20250910
DTEND;VALUE=DATE:20250912
DTSTAMP:20260424T051342
CREATED:20250627T145735Z
LAST-MODIFIED:20250922T152324Z
UID:10000932-1757480400-1757566799@www.fingerlakesgaming.com
SUMMARY:Lucky Legends 50 Plus
DESCRIPTION:Wednesdays\n\nWeekly Perks \nEarn & Get up to $25 Free Play | 8am–Midnight\nReceive $5 Free Play each time you earn 25 base points.\nLimit 5 redemptions. \n15% Food Discount | Platinum Grille & The Wire\nPresent your Lucky North® Rewards card with sticker. \nFree Finger Lakes Live Racing Program\nUpper Grandstand \nWinning Wednesday Wheel | Noon–6pm\nTwo hot seat winners selected each hour. Winners spin the cash wheel for a chance to win up to $300 cash!\n \n  \n\nRules & Regulations (pdf) \nWinning Wednesday Wheel Rules & Regulations (pdf)
URL:https://www.fingerlakesgaming.com/event/lucky-legends-50-plus/2025-09-10/
CATEGORIES:Promotions
ATTACH;FMTTYPE=image/jpeg:https://www.fingerlakesgaming.com/wp-content/uploads/2025/03/FL-50plus-Promo.jpg
END:VEVENT
BEGIN:VEVENT
DTSTART;VALUE=DATE:20250912
DTEND;VALUE=DATE:20250916
DTSTAMP:20260424T051342
CREATED:20250516T145600Z
LAST-MODIFIED:20250827T143156Z
UID:10000399-1757653200-1757912399@www.fingerlakesgaming.com
SUMMARY:$5 Off Buffet
DESCRIPTION:Friday\, September 12 — Sunday\, September 20\n\nOur thanks to you — Lucky North® Rewards members can enjoy the buffet for just $19.99* all weekend long. \n\n*$26.99 full regular price without Lucky North® Rewards card. \n 
URL:https://www.fingerlakesgaming.com/event/5-off-weekend-buffet/
CATEGORIES:Dining,Promotions
ATTACH;FMTTYPE=image/jpeg:https://www.fingerlakesgaming.com/wp-content/uploads/2025/07/FLGR7442_AugBuffetSpecials_5Off_WebPromo_300x250_July25_V1.jpg
END:VEVENT
BEGIN:VEVENT
DTSTART;TZID=America/New_York:20250913T083000
DTEND;TZID=America/New_York:20250913T120000
DTSTAMP:20260424T051342
CREATED:20250827T134551Z
LAST-MODIFIED:20250827T134626Z
UID:10000910-1757752200-1757764800@www.fingerlakesgaming.com
SUMMARY:E-Recycling Event
DESCRIPTION:Saturday\, September 13 | 8:30am–Noon\n\nRegistration is required to reserve your drop-off time. \nFor more information and to register\, visit sunnking.com/events.
URL:https://www.fingerlakesgaming.com/event/e-recycling-event/
CATEGORIES:Promotions
ATTACH;FMTTYPE=image/jpeg:https://www.fingerlakesgaming.com/wp-content/uploads/2025/08/FLGR7484_ERecycling_WebPromo_300x250_Aug25_V1.jpg
END:VEVENT
BEGIN:VEVENT
DTSTART;TZID=America/New_York:20250913T150000
DTEND;TZID=America/New_York:20250913T220000
DTSTAMP:20260424T051342
CREATED:20250826T191806Z
LAST-MODIFIED:20250827T144147Z
UID:10000899-1757775600-1757800800@www.fingerlakesgaming.com
SUMMARY:Hieroglyphic Hot Seats
DESCRIPTION:Saturdays\, September 6\, 13 & 20 | 3pm–10pm\n\nOver $50\,000 in prizes up for grabs! \nPlay with your card for a chance to play the matching game and win Free Play or $5\,000 cash! \n\nRules & Regulations (pdf)
URL:https://www.fingerlakesgaming.com/event/hieroglyphic-hot-seats/2025-09-13/
CATEGORIES:Promotions
ATTACH;FMTTYPE=image/jpeg:https://www.fingerlakesgaming.com/wp-content/uploads/2025/08/FLGR7484_HieroglyphicHotSeats_WebPromo_300x250_Aug25_V1-1.jpg
END:VEVENT
BEGIN:VEVENT
DTSTART;VALUE=DATE:20250914
DTEND;VALUE=DATE:20250916
DTSTAMP:20260424T051342
CREATED:20250129T161825Z
LAST-MODIFIED:20260317T183240Z
UID:10001063-1757826000-1757912399@www.fingerlakesgaming.com
SUMMARY:Sunday Brunch Bonus
DESCRIPTION:Sundays\n\nComplimentary mimosa or bloody Mary with the purchase of a Brunch Buffet. \nMust be 21 or older.
URL:https://www.fingerlakesgaming.com/event/sunday-brunch-bonus/2025-09-14/
CATEGORIES:Dining,Promotions
ATTACH;FMTTYPE=image/jpeg:https://www.fingerlakesgaming.com/wp-content/uploads/2025/01/FL-Buffet-SB-Promo.jpg
END:VEVENT
BEGIN:VEVENT
DTSTART;TZID=America/New_York:20250914T120000
DTEND;TZID=America/New_York:20250914T180000
DTSTAMP:20260424T051342
CREATED:20250827T142001Z
LAST-MODIFIED:20250827T142001Z
UID:10000914-1757851200-1757872800@www.fingerlakesgaming.com
SUMMARY:September Birthday Bash
DESCRIPTION:Sunday\, September 14 | Noon – 6pm\n\nFive winners of $50 Free Play drawn every 15 minutes! \n\nMembers with a September birthday play with Lucky North® Rewards card to earn and activate entry. \n  \nRules & Regulations (pdf)
URL:https://www.fingerlakesgaming.com/event/september-birthday-bash/
CATEGORIES:Promotions
ATTACH;FMTTYPE=image/jpeg:https://www.fingerlakesgaming.com/wp-content/uploads/2025/08/FLGR7484_Sept_BirthdayBash_WebPromo_300x250_Aug25_V1.jpg
END:VEVENT
BEGIN:VEVENT
DTSTART;VALUE=DATE:20250917
DTEND;VALUE=DATE:20250919
DTSTAMP:20260424T051342
CREATED:20250627T145735Z
LAST-MODIFIED:20250922T152324Z
UID:10000933-1758085200-1758171599@www.fingerlakesgaming.com
SUMMARY:Lucky Legends 50 Plus
DESCRIPTION:Wednesdays\n\nWeekly Perks \nEarn & Get up to $25 Free Play | 8am–Midnight\nReceive $5 Free Play each time you earn 25 base points.\nLimit 5 redemptions. \n15% Food Discount | Platinum Grille & The Wire\nPresent your Lucky North® Rewards card with sticker. \nFree Finger Lakes Live Racing Program\nUpper Grandstand \nWinning Wednesday Wheel | Noon–6pm\nTwo hot seat winners selected each hour. Winners spin the cash wheel for a chance to win up to $300 cash!\n \n  \n\nRules & Regulations (pdf) \nWinning Wednesday Wheel Rules & Regulations (pdf)
URL:https://www.fingerlakesgaming.com/event/lucky-legends-50-plus/2025-09-17/
CATEGORIES:Promotions
ATTACH;FMTTYPE=image/jpeg:https://www.fingerlakesgaming.com/wp-content/uploads/2025/03/FL-50plus-Promo.jpg
END:VEVENT
BEGIN:VEVENT
DTSTART;TZID=America/New_York:20250920T150000
DTEND;TZID=America/New_York:20250920T210000
DTSTAMP:20260424T051342
CREATED:20250627T155241Z
LAST-MODIFIED:20250827T142551Z
UID:10000919-1758380400-1758402000@www.fingerlakesgaming.com
SUMMARY:Surf & Turf Buffet
DESCRIPTION:Saturday\, September 20\n\nAdd a 10 oz. sirloin steak and 4 oz. lobster tail to your dinner buffet for just $15!
URL:https://www.fingerlakesgaming.com/event/surf-turf-buffet/2025-09-20/
CATEGORIES:Dining
ATTACH;FMTTYPE=image/jpeg:https://www.fingerlakesgaming.com/wp-content/uploads/2025/06/FLGR7406_July_Buffet_SurfTurf_WebPromo_300x250_June25_V2.jpg
END:VEVENT
BEGIN:VEVENT
DTSTART;TZID=America/New_York:20250920T150000
DTEND;TZID=America/New_York:20250920T220000
DTSTAMP:20260424T051342
CREATED:20250826T191806Z
LAST-MODIFIED:20250827T144147Z
UID:10000900-1758380400-1758405600@www.fingerlakesgaming.com
SUMMARY:Hieroglyphic Hot Seats
DESCRIPTION:Saturdays\, September 6\, 13 & 20 | 3pm–10pm\n\nOver $50\,000 in prizes up for grabs! \nPlay with your card for a chance to play the matching game and win Free Play or $5\,000 cash! \n\nRules & Regulations (pdf)
URL:https://www.fingerlakesgaming.com/event/hieroglyphic-hot-seats/2025-09-20/
CATEGORIES:Promotions
ATTACH;FMTTYPE=image/jpeg:https://www.fingerlakesgaming.com/wp-content/uploads/2025/08/FLGR7484_HieroglyphicHotSeats_WebPromo_300x250_Aug25_V1-1.jpg
END:VEVENT
BEGIN:VEVENT
DTSTART;TZID=America/New_York:20250920T200000
DTEND;TZID=America/New_York:20250920T230000
DTSTAMP:20260424T051342
CREATED:20250320T201304Z
LAST-MODIFIED:20250827T152904Z
UID:10000328-1758398400-1758409200@www.fingerlakesgaming.com
SUMMARY:Bonfire at Remedy™
DESCRIPTION:Saturday\, September 20 | 8pm – 11pm | Free Admission\n\nJoin us at Remedy™ for a live performance by Bonfire playing AC/DC Tribute music. Admission is free.
URL:https://www.fingerlakesgaming.com/event/bonfire-at-remedy/
CATEGORIES:Entertainment
ATTACH;FMTTYPE=image/jpeg:https://www.fingerlakesgaming.com/wp-content/uploads/2025/03/FLGR7159_Entertainment_Web_300x250_Mar25_V1b.jpg
END:VEVENT
BEGIN:VEVENT
DTSTART;VALUE=DATE:20250921
DTEND;VALUE=DATE:20250923
DTSTAMP:20260424T051342
CREATED:20250129T161825Z
LAST-MODIFIED:20260317T183240Z
UID:10001064-1758430800-1758517199@www.fingerlakesgaming.com
SUMMARY:Sunday Brunch Bonus
DESCRIPTION:Sundays\n\nComplimentary mimosa or bloody Mary with the purchase of a Brunch Buffet. \nMust be 21 or older.
URL:https://www.fingerlakesgaming.com/event/sunday-brunch-bonus/2025-09-21/
CATEGORIES:Dining,Promotions
ATTACH;FMTTYPE=image/jpeg:https://www.fingerlakesgaming.com/wp-content/uploads/2025/01/FL-Buffet-SB-Promo.jpg
END:VEVENT
BEGIN:VEVENT
DTSTART;VALUE=DATE:20250924
DTEND;VALUE=DATE:20250926
DTSTAMP:20260424T051342
CREATED:20250627T145735Z
LAST-MODIFIED:20250922T152324Z
UID:10000934-1758690000-1758776399@www.fingerlakesgaming.com
SUMMARY:Lucky Legends 50 Plus
DESCRIPTION:Wednesdays\n\nWeekly Perks \nEarn & Get up to $25 Free Play | 8am–Midnight\nReceive $5 Free Play each time you earn 25 base points.\nLimit 5 redemptions. \n15% Food Discount | Platinum Grille & The Wire\nPresent your Lucky North® Rewards card with sticker. \nFree Finger Lakes Live Racing Program\nUpper Grandstand \nWinning Wednesday Wheel | Noon–6pm\nTwo hot seat winners selected each hour. Winners spin the cash wheel for a chance to win up to $300 cash!\n \n  \n\nRules & Regulations (pdf) \nWinning Wednesday Wheel Rules & Regulations (pdf)
URL:https://www.fingerlakesgaming.com/event/lucky-legends-50-plus/2025-09-24/
CATEGORIES:Promotions
ATTACH;FMTTYPE=image/jpeg:https://www.fingerlakesgaming.com/wp-content/uploads/2025/03/FL-50plus-Promo.jpg
END:VEVENT
BEGIN:VEVENT
DTSTART;TZID=America/New_York:20250924T110000
DTEND;TZID=America/New_York:20250924T150000
DTSTAMP:20260424T051342
CREATED:20250827T140644Z
LAST-MODIFIED:20250827T140644Z
UID:10000912-1758711600-1758726000@www.fingerlakesgaming.com
SUMMARY:Flu Clinic
DESCRIPTION:Wednesday\, September 24 | 11am–3pm\nBuffet Conference Room\n\nStop in to get your flu shot and/or Covid-19 vaccine. \nNo pre-registration necessary.
URL:https://www.fingerlakesgaming.com/event/flu-clinic/
CATEGORIES:Promotions
ATTACH;FMTTYPE=image/jpeg:https://www.fingerlakesgaming.com/wp-content/uploads/2025/08/FLGR7484_FluClinic_WebPromo_300x250_Aug25_V1.jpg
END:VEVENT
BEGIN:VEVENT
DTSTART;VALUE=DATE:20250928
DTEND;VALUE=DATE:20250930
DTSTAMP:20260424T051342
CREATED:20250129T161825Z
LAST-MODIFIED:20260317T183240Z
UID:10001065-1759035600-1759121999@www.fingerlakesgaming.com
SUMMARY:Sunday Brunch Bonus
DESCRIPTION:Sundays\n\nComplimentary mimosa or bloody Mary with the purchase of a Brunch Buffet. \nMust be 21 or older.
URL:https://www.fingerlakesgaming.com/event/sunday-brunch-bonus/2025-09-28/
CATEGORIES:Dining,Promotions
ATTACH;FMTTYPE=image/jpeg:https://www.fingerlakesgaming.com/wp-content/uploads/2025/01/FL-Buffet-SB-Promo.jpg
END:VEVENT
BEGIN:VEVENT
DTSTART;TZID=UTC:20250930T210000
DTEND;TZID=UTC:20250930T210000
DTSTAMP:20260424T051342
CREATED:20241120T015349Z
LAST-MODIFIED:20250922T191526Z
UID:10000913-1759266000-1759266000@www.fingerlakesgaming.com
SUMMARY:Calendar Cash
DESCRIPTION:Tuesday\, September 30 & October 28 |  Drawing: 9pm\n\nWin $2\,025 in Cash!\nPrint your entry ticket at any gaming machine and place it in the designated barrel. \n\nPlay with your card before the drawing time to activate your entry. If not present within 10 minutes\, the prize is $1\,000. \nRules & Regulations (pdf)
URL:https://www.fingerlakesgaming.com/event/calendar-cash/2025-09-30/
CATEGORIES:Promotions
ATTACH;FMTTYPE=image/jpeg:https://www.fingerlakesgaming.com/wp-content/uploads/2024/11/FLGR2830_All_WebTiles_300x250_Dec19_CalendarCash.jpg
END:VEVENT
END:VCALENDAR