BEGIN:VCALENDAR
VERSION:2.0
PRODID:-//Finger Lakes - ECPv6.15.20//NONSGML v1.0//EN
CALSCALE:GREGORIAN
METHOD:PUBLISH
X-ORIGINAL-URL:https://www.fingerlakesgaming.com
X-WR-CALDESC:Events for Finger Lakes
REFRESH-INTERVAL;VALUE=DURATION:PT1H
X-Robots-Tag:noindex
X-PUBLISHED-TTL:PT1H
BEGIN:VTIMEZONE
TZID:America/New_York
BEGIN:DAYLIGHT
TZOFFSETFROM:-0500
TZOFFSETTO:-0400
TZNAME:EDT
DTSTART:20240310T070000
END:DAYLIGHT
BEGIN:STANDARD
TZOFFSETFROM:-0400
TZOFFSETTO:-0500
TZNAME:EST
DTSTART:20241103T060000
END:STANDARD
BEGIN:DAYLIGHT
TZOFFSETFROM:-0500
TZOFFSETTO:-0400
TZNAME:EDT
DTSTART:20250309T070000
END:DAYLIGHT
BEGIN:STANDARD
TZOFFSETFROM:-0400
TZOFFSETTO:-0500
TZNAME:EST
DTSTART:20251102T060000
END:STANDARD
BEGIN:DAYLIGHT
TZOFFSETFROM:-0500
TZOFFSETTO:-0400
TZNAME:EDT
DTSTART:20260308T070000
END:DAYLIGHT
BEGIN:STANDARD
TZOFFSETFROM:-0400
TZOFFSETTO:-0500
TZNAME:EST
DTSTART:20261101T060000
END:STANDARD
BEGIN:DAYLIGHT
TZOFFSETFROM:-0500
TZOFFSETTO:-0400
TZNAME:EDT
DTSTART:20270314T070000
END:DAYLIGHT
BEGIN:STANDARD
TZOFFSETFROM:-0400
TZOFFSETTO:-0500
TZNAME:EST
DTSTART:20271107T060000
END:STANDARD
END:VTIMEZONE
BEGIN:VEVENT
DTSTART;VALUE=DATE:20250701
DTEND;VALUE=DATE:20260102
DTSTAMP:20260425T083125
CREATED:20250701T160857Z
LAST-MODIFIED:20251126T194045Z
UID:10000819-1751346000-1767243599@www.fingerlakesgaming.com
SUMMARY:Honoring The Heroes Among Us
DESCRIPTION:Now Available\n\nWe are proud to recognize veterans\, active-duty military and first responders who serve and protect our community and country with our new HERO program! \nVisit the Lucky North® Rewards desk with the required documents to receive your designation as a HERO member and unlock more benefits: \n\nCommemorative HERO card\nUpgrade to Emerald status*\nAccess to future HERO exclusive promotions\, offers and discounts.\n\nClick here for more information and required proof of status.
URL:https://www.fingerlakesgaming.com/event/honoring-the-heroes-among-us/
CATEGORIES:Promotions
ATTACH;FMTTYPE=image/jpeg:https://www.fingerlakesgaming.com/wp-content/uploads/2025/06/GHAM7401_HeroCardLaunch_Web300x250_Jun25_V1.jpg
END:VEVENT
BEGIN:VEVENT
DTSTART;VALUE=DATE:20251101
DTEND;VALUE=DATE:20251222
DTSTAMP:20260425T083125
CREATED:20251022T132002Z
LAST-MODIFIED:20251126T144237Z
UID:10000973-1761973200-1766293199@www.fingerlakesgaming.com
SUMMARY:Audi All The Way
DESCRIPTION:Oh what fun it is to win a brand new 2025 Audi Q3!\nEarn Entries November 1–December 20 | Play at any gaming machine with your Lucky North® Rewards card. \nGrand Prize Drawing | Saturday\, December 20\nGrand prize car winner plus five winners of $1\,000 cash announced at 9:30pm \nPlay with your Lucky North Rewards® card by 9pm on drawing day to activate your entries. \nBe Here Bonus\nIf present at drawing time\, the winner will also claim $250 Free Play and a dozen free buffet certificates. \nMultiply the Fun\n2X Tuesdays: Earn 2X points and drawing entries on Tuesdays\n3X Thursdays: Earn 3X points and drawing entries on Thursdays \n\nRules & Regulations (pdf)
URL:https://www.fingerlakesgaming.com/event/audi-all-the-way/
CATEGORIES:Promotions
ATTACH;FMTTYPE=image/jpeg:https://www.fingerlakesgaming.com/wp-content/uploads/2025/10/FLGR7554_AudiAlltheWay_WebPromo_300x250_Oct25_V1.jpg
END:VEVENT
END:VCALENDAR