BEGIN:VCALENDAR
VERSION:2.0
PRODID:-//Finger Lakes - ECPv6.15.20//NONSGML v1.0//EN
CALSCALE:GREGORIAN
METHOD:PUBLISH
X-WR-CALNAME:Finger Lakes
X-ORIGINAL-URL:https://www.fingerlakesgaming.com
X-WR-CALDESC:Events for Finger Lakes
REFRESH-INTERVAL;VALUE=DURATION:PT1H
X-Robots-Tag:noindex
X-PUBLISHED-TTL:PT1H
BEGIN:VTIMEZONE
TZID:America/New_York
BEGIN:DAYLIGHT
TZOFFSETFROM:-0500
TZOFFSETTO:-0400
TZNAME:EDT
DTSTART:20240310T070000
END:DAYLIGHT
BEGIN:STANDARD
TZOFFSETFROM:-0400
TZOFFSETTO:-0500
TZNAME:EST
DTSTART:20241103T060000
END:STANDARD
BEGIN:DAYLIGHT
TZOFFSETFROM:-0500
TZOFFSETTO:-0400
TZNAME:EDT
DTSTART:20250309T070000
END:DAYLIGHT
BEGIN:STANDARD
TZOFFSETFROM:-0400
TZOFFSETTO:-0500
TZNAME:EST
DTSTART:20251102T060000
END:STANDARD
BEGIN:DAYLIGHT
TZOFFSETFROM:-0500
TZOFFSETTO:-0400
TZNAME:EDT
DTSTART:20260308T070000
END:DAYLIGHT
BEGIN:STANDARD
TZOFFSETFROM:-0400
TZOFFSETTO:-0500
TZNAME:EST
DTSTART:20261101T060000
END:STANDARD
BEGIN:DAYLIGHT
TZOFFSETFROM:-0500
TZOFFSETTO:-0400
TZNAME:EDT
DTSTART:20270314T070000
END:DAYLIGHT
BEGIN:STANDARD
TZOFFSETFROM:-0400
TZOFFSETTO:-0500
TZNAME:EST
DTSTART:20271107T060000
END:STANDARD
END:VTIMEZONE
BEGIN:VEVENT
DTSTART;VALUE=DATE:20250701
DTEND;VALUE=DATE:20260102
DTSTAMP:20260425T110522
CREATED:20250701T160857Z
LAST-MODIFIED:20251126T194045Z
UID:10000819-1751346000-1767243599@www.fingerlakesgaming.com
SUMMARY:Honoring The Heroes Among Us
DESCRIPTION:Now Available\n\nWe are proud to recognize veterans\, active-duty military and first responders who serve and protect our community and country with our new HERO program! \nVisit the Lucky North® Rewards desk with the required documents to receive your designation as a HERO member and unlock more benefits: \n\nCommemorative HERO card\nUpgrade to Emerald status*\nAccess to future HERO exclusive promotions\, offers and discounts.\n\nClick here for more information and required proof of status.
URL:https://www.fingerlakesgaming.com/event/honoring-the-heroes-among-us/
CATEGORIES:Promotions
ATTACH;FMTTYPE=image/jpeg:https://www.fingerlakesgaming.com/wp-content/uploads/2025/06/GHAM7401_HeroCardLaunch_Web300x250_Jun25_V1.jpg
END:VEVENT
BEGIN:VEVENT
DTSTART;VALUE=DATE:20251001
DTEND;VALUE=DATE:20251102
DTSTAMP:20260425T110522
CREATED:20250925T151554Z
LAST-MODIFIED:20250925T151554Z
UID:10000935-1759294800-1761973199@www.fingerlakesgaming.com
SUMMARY:Free Play For A Year
DESCRIPTION:You could win $500 Free Play every week for a year – that’s $26\,000 Free Play! \n\nEarn Entries | October 1 – November 1\nPlay any gaming machine with your Lucky North® Rewards card. \nGrand Prize Drawing | Saturday\, November 1 | 9:30pm\nPlay with your Lucky North® Rewards card by 9pm on drawing day to activate your entries. One lucky winner is announced at 9:30pm! \nMultiply The Fun \n2X Tuesdays | Tuesdays in October\nEarn 2X points and drawing entries. \n3X Thursdays | Thursdays in October\nEarn 3X points and drawing entries. \n\nRules & Regulations
URL:https://www.fingerlakesgaming.com/event/free-play-for-a-year/2025-10-01/
CATEGORIES:Promotions
ATTACH;FMTTYPE=image/jpeg:https://www.fingerlakesgaming.com/wp-content/uploads/2025/09/FLGR7515_FreePlayforaYear_WebPromo_300x250_Sept25_V1.jpg
END:VEVENT
BEGIN:VEVENT
DTSTART;VALUE=DATE:20251023
DTEND;VALUE=DATE:20251025
DTSTAMP:20260425T110522
CREATED:20250929T151301Z
LAST-MODIFIED:20250929T151301Z
UID:10000943-1761195600-1761281999@www.fingerlakesgaming.com
SUMMARY:Sip\, Sizzle\, Score: Tailgate With Pepsi
DESCRIPTION:Print an entry on each drawing date. Plus\, on any day Oct. 1–30\, collect additional entries by exchanging your receipt from any Pepsi purchase at Finger Lakes for additional drawing tickets at Lucky North® Rewards. \nEnter your collected tickets on any drawing day for a chance to win. \nThursdays\, October 9\, 16\, 23\, 30\nOn each date\, one winner will get a Pepsi Tailgating Essentials prize pack. Two more winners will receive a Pepsi & Lays Snack Pack. \nGrand Finale | Thursday\, October 30\nPremium grill \n\nMust be a Lucky North® Rewards member. See official rules for details. No purchase necessary. \nRules & Regulations
URL:https://www.fingerlakesgaming.com/event/sip-sizzle-score-tailgate-with-pepsi/2025-10-23/
CATEGORIES:Promotions
ATTACH;FMTTYPE=image/jpeg:https://www.fingerlakesgaming.com/wp-content/uploads/2025/09/FLGR7515_PepsiSweeps_WebPromo_300x250_Sept25_V1.jpg
END:VEVENT
END:VCALENDAR